BEGIN:VCALENDAR
VERSION:2.0
PRODID:-//NLBHA - ECPv6.15.20//NONSGML v1.0//EN
CALSCALE:GREGORIAN
METHOD:PUBLISH
X-ORIGINAL-URL:https://nlbha.org
X-WR-CALDESC:Events for NLBHA
REFRESH-INTERVAL;VALUE=DURATION:PT1H
X-Robots-Tag:noindex
X-PUBLISHED-TTL:PT1H
BEGIN:VTIMEZONE
TZID:America/Denver
BEGIN:DAYLIGHT
TZOFFSETFROM:-0700
TZOFFSETTO:-0600
TZNAME:MDT
DTSTART:20250309T090000
END:DAYLIGHT
BEGIN:STANDARD
TZOFFSETFROM:-0600
TZOFFSETTO:-0700
TZNAME:MST
DTSTART:20251102T080000
END:STANDARD
BEGIN:DAYLIGHT
TZOFFSETFROM:-0700
TZOFFSETTO:-0600
TZNAME:MDT
DTSTART:20260308T090000
END:DAYLIGHT
BEGIN:STANDARD
TZOFFSETFROM:-0600
TZOFFSETTO:-0700
TZNAME:MST
DTSTART:20261101T080000
END:STANDARD
BEGIN:DAYLIGHT
TZOFFSETFROM:-0700
TZOFFSETTO:-0600
TZNAME:MDT
DTSTART:20270314T090000
END:DAYLIGHT
BEGIN:STANDARD
TZOFFSETFROM:-0600
TZOFFSETTO:-0700
TZNAME:MST
DTSTART:20271107T080000
END:STANDARD
END:VTIMEZONE
BEGIN:VEVENT
DTSTART;TZID=America/Denver:20260317T090000
DTEND;TZID=America/Denver:20260317T103000
DTSTAMP:20260424T165425
CREATED:20260305T192333Z
LAST-MODIFIED:20260305T192946Z
UID:22960-1773738000-1773743400@nlbha.org
SUMMARY:Breaking the Stigma - A Review of Barriers and Culturally Grounded Approaches for Serving Hispanic/Latinx Populations
DESCRIPTION:In this training we explore cultural concepts of distress and values unique to Hispanic and Latinx communities\, discuss the pertinence of cultural idioms of distress in mental health treatment\, and review culturally appropriate approaches to working with Latinx/Hispanic clients while applying an ethical lens in rural practice. Offered in English and Spanish. Free CEU’s. This training is 90 minutes. \n\n\n\nAbout the Presenter\n\n\n\nLucila Beaton\, LISW-CP/S\, LCSW\, LCSWC \n\n\n\nLucila Beaton\, LISW-CP\, graduated with an MSW degree from Yeshiva University. She is an independent licensed clinical social worker specializing as a trauma-focused cognitive behavioral therapist. She is also a certified mental health first aid instructor for the National Council on Behavioral Health and a Living Works trainer who provides suicide prevention and intervention training such as ASIST and Safe Talk. She also offers Triple P parent trainings for levels 2\, 3\, 4\, and 5 and Fearless training in English and Spanish. She is bilingual and bicultural and embraces the intersectionality of being Afro-Latina and all that it entails. She never forgets that she began her career as an ESOL student in the Brooklyn\, New York\, public school system. \n\n\n\n1.5 CEUs will be provided \n\n\n\nView Flyer
URL:https://nlbha.org/event/breaking-the-stigma-a-review-of-barriers-and-culturally-grounded-approaches-for-serving-hispanic-latinx-populations/
CATEGORIES:MHAT
END:VEVENT
BEGIN:VEVENT
DTSTART;TZID=America/Denver:20260324T090000
DTEND;TZID=America/Denver:20260324T103000
DTSTAMP:20260424T165425
CREATED:20260305T192939Z
LAST-MODIFIED:20260305T193157Z
UID:23012-1774342800-1774348200@nlbha.org
SUMMARY:ACE’s and Community Resilience – Understanding Trauma Toxic Stress
DESCRIPTION:This 90-minute training examines the ACE Study and how cumulative trauma affects brain development\, stress response systems\, and long-term health. Participants will explore how trauma exposure impacts individuals and communities\, including those frequently encountered in crisis response. The session highlights protective factors and resilience-building approaches that support both community members and responder wellness. \n\n\n\nAbout the Presenter\n\n\n\nLucila Beaton\, LISW-CP/S\, LCSW\, LCSWC \n\n\n\nLucila Beaton\, LISW-CP\, graduated with an MSW degree from Yeshiva University. She is an independent licensed clinical social worker specializing as a trauma-focused cognitive behavioral therapist. She is also a certified mental health first aid instructor for the National Council on Behavioral Health and a Living Works trainer who provides suicide prevention and intervention training such as ASIST and Safe Talk. She also offers Triple P parent trainings for levels 2\, 3\, 4\, and 5 and Fearless training in English and Spanish. She is bilingual and bicultural and embraces the intersectionality of being Afro-Latina and all that it entails. She never forgets that she began her career as an ESOL student in the Brooklyn\, New York\, public school system. \n\n\n\n1.5 CEUs will be provided \n\n\n\nView Flyer
URL:https://nlbha.org/event/aces-and-community-resilience-understanding-trauma-toxic-stress/
CATEGORIES:MHAT
END:VEVENT
BEGIN:VEVENT
DTSTART;TZID=America/Denver:20260327T090000
DTEND;TZID=America/Denver:20260327T103000
DTSTAMP:20260424T165425
CREATED:20260305T193406Z
LAST-MODIFIED:20260305T193408Z
UID:23016-1774602000-1774607400@nlbha.org
SUMMARY:Introduction to Trauma-Informed Care: Foundations for Practice
DESCRIPTION:This 90-minute introductory session provides a foundational overview of Trauma-Informed Care (TIC) and its role in improving patient and organizational outcomes. Participants will explore the six core principles of Trauma-Informed Care as outlined by the Centers for Disease Control (CDC)\, including safety\, trust\, connection\, collaboration\, empowerment\, and cultural responsiveness. The training will examine how trauma impacts behavior\, engagement\, and health outcomes\, and introduce practical strategies to improve provider–patient relationships while minimizing distress and promoting autonomy. Participants will gain tools to begin assessing services through a trauma-informed lens and understand what it means to build a trauma-informed organization. \n\n\n\nAbout the Presenter\n\n\n\nLucila Beaton\, LISW-CP/S\, LCSW\, LCSWC \n\n\n\nLucila Beaton\, LISW-CP\, graduated with an MSW degree from Yeshiva University. She is an independent licensed clinical social worker specializing as a trauma-focused cognitive behavioral therapist. She is also a certified mental health first aid instructor for the National Council on Behavioral Health and a Living Works trainer who provides suicide prevention and intervention training such as ASIST and Safe Talk. She also offers Triple P parent trainings for levels 2\, 3\, 4\, and 5 and Fearless training in English and Spanish. She is bilingual and bicultural and embraces the intersectionality of being Afro-Latina and all that it entails. She never forgets that she began her career as an ESOL student in the Brooklyn\, New York\, public school system. \n\n\n\n1.5 CEUs will be provided. \n\n\n\nView Flyer
URL:https://nlbha.org/event/introduction-to-trauma-informed-care-foundations-for-practice/
CATEGORIES:MHAT
END:VEVENT
END:VCALENDAR